BEGIN:VCALENDAR
PRODID:-//eluceo/ical//2.0/EN
VERSION:2.0
CALSCALE:GREGORIAN
BEGIN:VEVENT
UID:fc86053d9b37ac1b611c91faed5a8b32
DTSTAMP:20260423T212751Z
SUMMARY:Plauderlunch am Weihnachtsmarkt
DESCRIPTION:
URL:https://rcbobi.ch/sv/agenda/show/167256
DTSTART;TZID=Europe/Zurich:20231212T114500
DTEND;TZID=Europe/Zurich:20231212T133000
LOCATION:Weihnachtsmarkt\, Stand von Theo Lang
CATEGORIES:Rotary
END:VEVENT
BEGIN:VTIMEZONE
TZID:Europe/Zurich
BEGIN:STANDARD
DTSTART:20231212T114500
TZNAME:CET
TZOFFSETTO:+0100
TZOFFSETFROM:+0100
END:STANDARD
END:VTIMEZONE
END:VCALENDAR
