BEGIN:VCALENDAR
PRODID:-//eluceo/ical//2.0/EN
VERSION:2.0
CALSCALE:GREGORIAN
BEGIN:VEVENT
UID:7f066aeb67e6562381083ade45cbb159
DTSTAMP:20260424T105115Z
SUMMARY:Präsidialanlass Andrea Bignasca
DESCRIPTION:Webbplats: https://www.antikenmuseumbasel.ch\nTalare: 
URL:https://rcbobi.ch/sv/agenda/show/159071
DTSTART;TZID=Europe/Zurich:20230627T183000
DTEND;TZID=Europe/Zurich:20230627T230000
LOCATION:Antikenmuseum Basel am St. Alban-Graben 5\, 4010 Basel
CATEGORIES:Rotary
END:VEVENT
BEGIN:VTIMEZONE
TZID:Europe/Zurich
BEGIN:DAYLIGHT
DTSTART:20230627T183000
TZNAME:CEST
TZOFFSETTO:+0200
TZOFFSETFROM:+0200
END:DAYLIGHT
END:VTIMEZONE
END:VCALENDAR
