BEGIN:VCALENDAR
PRODID:-//eluceo/ical//2.0/EN
VERSION:2.0
CALSCALE:GREGORIAN
BEGIN:VEVENT
UID:4625e1426542586b2600b126abdf2e02
DTSTAMP:20260424T225238Z
SUMMARY:Rotary-Plauderlunch
DESCRIPTION:Webbplats: http://www.weiherschloss.ch\nTalare: Herr Marc Stras
 ser\, CIO bei Universitätsspital Basel (USB) musste den Termin leider ku
 rzfristig verschieben. Ein alternatives Datum wird möglichst bald kommuni
 ziert.Zudem findet der Plauderlunch ausnahmsweise im 1. Stock des Schloss 
 Bottmingen statt und nicht im Rittersaal. 
URL:https://rcbobi.ch/sv/agenda/show/134274
DTSTART;TZID=Europe/Zurich:20211116T120000
DTEND;TZID=Europe/Zurich:20211116T133000
LOCATION:Restaurant Schloss Bottmingen - Mittagslunch\, Schlossgasse 9\, 41
 03 Bottmingen\, Schweiz
CATEGORIES:Rotary
END:VEVENT
BEGIN:VTIMEZONE
TZID:Europe/Zurich
BEGIN:STANDARD
DTSTART:20211116T120000
TZNAME:CET
TZOFFSETTO:+0100
TZOFFSETFROM:+0100
END:STANDARD
END:VTIMEZONE
END:VCALENDAR
