BEGIN:VCALENDAR
PRODID:-//eluceo/ical//2.0/EN
VERSION:2.0
CALSCALE:GREGORIAN
BEGIN:VEVENT
UID:b7e9c13764620670499fbc23dda38f06
DTSTAMP:20260423T100612Z
SUMMARY:Plauder-Lunch
DESCRIPTION:Website: http://www.weiherschloss.ch\nSprekers: Plauder-Lunch
URL:https://rcbobi.ch/nl/agenda/show/207921
DTSTART;TZID=Europe/Zurich:20260324T121500
DTEND;TZID=Europe/Zurich:20260324T133000
LOCATION:Restaurant Schloss Bottmingen - Mittagslunch\, Schlossgasse 9\, 41
 03 Bottmingen\, Schweiz
CATEGORIES:Rotary
END:VEVENT
BEGIN:VTIMEZONE
TZID:Europe/Zurich
BEGIN:STANDARD
DTSTART:20260324T121500
TZNAME:CET
TZOFFSETTO:+0100
TZOFFSETFROM:+0100
END:STANDARD
END:VTIMEZONE
END:VCALENDAR
