BEGIN:VCALENDAR
PRODID:-//eluceo/ical//2.0/EN
VERSION:2.0
CALSCALE:GREGORIAN
BEGIN:VEVENT
UID:2a750a5d7b2797cf88c9559563f42fd9
DTSTAMP:20260419T135003Z
SUMMARY:Botschafter und Grenzen (Sprache: Französisch) Rest. Ochsen\, Arle
 sheim
DESCRIPTION:Website: https://www.ochsen.ch/\nSprekers: Die französische Bo
 tschafterin Marion\nParadas spricht auf Französisch über diplomatische A
 rbeit im Spannungsfeld\ninternationaler Beziehungen. Sie erläutert\, wie 
 Grenzen politische Realitäten\nformen und zugleich Chancen für Dialog er
 öffnen.
URL:https://rcbobi.ch/nl/agenda/show/207916
DTSTART;TZID=Europe/Zurich:20260217T121500
DTEND;TZID=Europe/Zurich:20260217T133000
LOCATION:Gasthof zum Ochsen\, Ermitagestrasse 16 CH-4144 Arlesheim
CATEGORIES:Rotary
END:VEVENT
BEGIN:VTIMEZONE
TZID:Europe/Zurich
BEGIN:STANDARD
DTSTART:20260217T121500
TZNAME:CET
TZOFFSETTO:+0100
TZOFFSETFROM:+0100
END:STANDARD
END:VTIMEZONE
END:VCALENDAR
