BEGIN:VCALENDAR
PRODID:-//eluceo/ical//2.0/EN
VERSION:2.0
CALSCALE:GREGORIAN
BEGIN:VEVENT
UID:472f57f29e0602829d7042d0cbc35c27
DTSTAMP:20260425T142541Z
SUMMARY:Culturescapes Sahara - 20 Jahre Festival
DESCRIPTION:Sito web: http://www.weiherschloss.ch\nRelatore/i: Jurriaan Coo
 iman
URL:https://rcbobi.ch/it/agenda/show/162744
DTSTART;TZID=Europe/Zurich:20230919T114500
DTEND;TZID=Europe/Zurich:20230919T133000
LOCATION:Restaurant Schloss Bottmingen - Mittagslunch\, Schlossgasse 9\, 41
 03 Bottmingen\, Schweiz
CATEGORIES:Rotary
END:VEVENT
BEGIN:VTIMEZONE
TZID:Europe/Zurich
BEGIN:DAYLIGHT
DTSTART:20230919T114500
TZNAME:CEST
TZOFFSETTO:+0200
TZOFFSETFROM:+0200
END:DAYLIGHT
END:VTIMEZONE
END:VCALENDAR
