BEGIN:VCALENDAR
PRODID:-//eluceo/ical//2.0/EN
VERSION:2.0
CALSCALE:GREGORIAN
BEGIN:VEVENT
UID:35e2e12e8291e03c3312255c33fa5cad
DTSTAMP:20260420T104324Z
SUMMARY:Duck-Race\, inkl. anschliessendem Rotary-Damenanlass
DESCRIPTION:Relatore/i: Einladung Duck-Race\, inkl.\nanschliessendem Rotary
 -Damenanlass\, Samstag\, 4.9.2021
URL:https://rcbobi.ch/it/agenda/show/130927
DTSTART;TZID=Europe/Zurich:20210904T150000
DTEND;TZID=Europe/Zurich:20210904T230000
LOCATION:Fussgänger- und Velobrücke "Birskopfsteg" in Birsfelden
CATEGORIES:Rotary
END:VEVENT
BEGIN:VTIMEZONE
TZID:Europe/Zurich
BEGIN:DAYLIGHT
DTSTART:20210904T150000
TZNAME:CEST
TZOFFSETTO:+0200
TZOFFSETFROM:+0200
END:DAYLIGHT
END:VTIMEZONE
END:VCALENDAR
