BEGIN:VCALENDAR
PRODID:-//eluceo/ical//2.0/EN
VERSION:2.0
CALSCALE:GREGORIAN
BEGIN:VEVENT
UID:88fcdfe40b2c6e9920750d695b435115
DTSTAMP:20260423T095615Z
SUMMARY:Plauder-Lunch\; Update MK und Foundation
DESCRIPTION:Vefsíða: http://www.weiherschloss.ch\nFyrirlesari(ar): Plaude
 r-Lunch\; Update MK und Foundation
URL:https://rcbobi.ch/is/agenda/show/207919
DTSTART;TZID=Europe/Zurich:20260310T121500
DTEND;TZID=Europe/Zurich:20260310T133000
LOCATION:Restaurant Schloss Bottmingen - Mittagslunch\, Schlossgasse 9\, 41
 03 Bottmingen\, Schweiz
CATEGORIES:Rotary
END:VEVENT
BEGIN:VTIMEZONE
TZID:Europe/Zurich
BEGIN:STANDARD
DTSTART:20260310T121500
TZNAME:CET
TZOFFSETTO:+0100
TZOFFSETFROM:+0100
END:STANDARD
END:VTIMEZONE
END:VCALENDAR
