BEGIN:VCALENDAR
PRODID:-//eluceo/ical//2.0/EN
VERSION:2.0
CALSCALE:GREGORIAN
BEGIN:VEVENT
UID:8b1e4014c8df8bcd03fb59427005e2d9
DTSTAMP:20260424T134228Z
SUMMARY:Plauder-Lunch bei Theo Lang Sr. auf dem Weihnachtsmarkt
DESCRIPTION:Vefsíða: https://www.basel.com/de/attraktionen/weihnachtsmark
 t-barfuesserplatz-6d5349d67f
URL:https://rcbobi.ch/is/agenda/show/203407
DTSTART;TZID=Europe/Zurich:20251216T121500
DTEND;TZID=Europe/Zurich:20251216T133000
LOCATION:Barfüsserplatz\, Basel
CATEGORIES:Rotary
END:VEVENT
BEGIN:VTIMEZONE
TZID:Europe/Zurich
BEGIN:STANDARD
DTSTART:20251216T121500
TZNAME:CET
TZOFFSETTO:+0100
TZOFFSETFROM:+0100
END:STANDARD
END:VTIMEZONE
END:VCALENDAR
