BEGIN:VCALENDAR
PRODID:-//eluceo/ical//2.0/EN
VERSION:2.0
CALSCALE:GREGORIAN
BEGIN:VEVENT
UID:525df37201d159457e9cbe345f0a474c
DTSTAMP:20260422T083618Z
SUMMARY:Besuch District Governor Alex Schär
DESCRIPTION:Vefsíða: http://www.weiherschloss.ch\nFyrirlesari(ar): Alex S
 chär
URL:https://rcbobi.ch/is/agenda/show/164918
DTSTART;TZID=Europe/Zurich:20231024T114500
DTEND;TZID=Europe/Zurich:20231024T133000
LOCATION:Restaurant Schloss Bottmingen - Mittagslunch\, Schlossgasse 9\, 41
 03 Bottmingen\, Schweiz
CATEGORIES:Rotary
END:VEVENT
BEGIN:VTIMEZONE
TZID:Europe/Zurich
BEGIN:DAYLIGHT
DTSTART:20231024T114500
TZNAME:CEST
TZOFFSETTO:+0200
TZOFFSETFROM:+0200
END:DAYLIGHT
END:VTIMEZONE
END:VCALENDAR
