BEGIN:VCALENDAR
PRODID:-//eluceo/ical//2.0/EN
VERSION:2.0
CALSCALE:GREGORIAN
BEGIN:VEVENT
UID:22885636da6bd7cf14fea18ab0215971
DTSTAMP:20260422T090520Z
SUMMARY:KEIN ANLASS - NATIONALFEIERTAG
DESCRIPTION:
URL:https://rcbobi.ch/is/agenda/show/163732
DTSTART;TZID=Europe/Zurich:20230801T114500
DTEND;TZID=Europe/Zurich:20230801T114500
LOCATION:-
CATEGORIES:Rotary
END:VEVENT
BEGIN:VTIMEZONE
TZID:Europe/Zurich
BEGIN:DAYLIGHT
DTSTART:20230801T114500
TZNAME:CEST
TZOFFSETTO:+0200
TZOFFSETFROM:+0200
END:DAYLIGHT
END:VTIMEZONE
END:VCALENDAR
