BEGIN:VCALENDAR
PRODID:-//eluceo/ical//2.0/EN
VERSION:2.0
CALSCALE:GREGORIAN
BEGIN:VEVENT
UID:f65bddc2ee80f7d81258283a4c270655
DTSTAMP:20260422T065938Z
SUMMARY:Die Wyss Academy for Nature – Vision\, Wissen und Wirkung
DESCRIPTION:Vefsíða: http://www.weiherschloss.ch\nFyrirlesari(ar): Matthi
 as Schmid-Huberty
URL:https://rcbobi.ch/is/agenda/show/163406
DTSTART;TZID=Europe/Zurich:20230829T114500
DTEND;TZID=Europe/Zurich:20230829T133000
LOCATION:Restaurant Schloss Bottmingen - Mittagslunch\, Schlossgasse 9\, 41
 03 Bottmingen\, Schweiz
CATEGORIES:Rotary
END:VEVENT
BEGIN:VTIMEZONE
TZID:Europe/Zurich
BEGIN:DAYLIGHT
DTSTART:20230829T114500
TZNAME:CEST
TZOFFSETTO:+0200
TZOFFSETFROM:+0200
END:DAYLIGHT
END:VTIMEZONE
END:VCALENDAR
