BEGIN:VCALENDAR
PRODID:-//eluceo/ical//2.0/EN
VERSION:2.0
CALSCALE:GREGORIAN
BEGIN:VEVENT
UID:ddedfe0ad5216e4c5402d34249adc148
DTSTAMP:20260424T102631Z
SUMMARY:Abdankung Simone Altwegg
DESCRIPTION:Fyrirlesari(ar): Abdankung Simone Altwegg
URL:https://rcbobi.ch/is/agenda/show/157775
DTSTART;TZID=Europe/Zurich:20230310T140000
DTEND;TZID=Europe/Zurich:20230310T170000
LOCATION:Kirche St. Margarethen Binningen
CATEGORIES:Rotary
END:VEVENT
BEGIN:VTIMEZONE
TZID:Europe/Zurich
BEGIN:STANDARD
DTSTART:20230310T140000
TZNAME:CET
TZOFFSETTO:+0100
TZOFFSETFROM:+0100
END:STANDARD
END:VTIMEZONE
END:VCALENDAR
