BEGIN:VCALENDAR
PRODID:-//eluceo/ical//2.0/EN
VERSION:2.0
CALSCALE:GREGORIAN
BEGIN:VEVENT
UID:0e790fb8d02c2e354858da1e16af3b08
DTSTAMP:20260420T080013Z
SUMMARY:Damenanlass Kaserne Basel
DESCRIPTION:Vefsíða: https://www.kaserne-basel.ch/de\nFyrirlesari(ar):  
 Thomas Keller Geschäftsführer Kaserne Basel
URL:https://rcbobi.ch/is/agenda/show/143330
DTSTART;TZID=Europe/Zurich:20220802T181500
DTEND;TZID=Europe/Zurich:20220802T230000
LOCATION:Abendanlass- Nur auf Einladung (Jeden ersten Dienstag im Monat)\, 
 Unterschiedlich\, 4000 Basel/Baselland
CATEGORIES:Rotary
END:VEVENT
BEGIN:VTIMEZONE
TZID:Europe/Zurich
BEGIN:DAYLIGHT
DTSTART:20220802T181500
TZNAME:CEST
TZOFFSETTO:+0200
TZOFFSETFROM:+0200
END:DAYLIGHT
END:VTIMEZONE
END:VCALENDAR
