BEGIN:VCALENDAR
PRODID:-//eluceo/ical//2.0/EN
VERSION:2.0
CALSCALE:GREGORIAN
BEGIN:VEVENT
UID:6e6f131dcbfdabe388167c77c0cc0902
DTSTAMP:20260423T061931Z
SUMMARY:Auf der Walz mit Nick
DESCRIPTION:Site internet: http://www.weiherschloss.ch\nConférencier(s): D
 ominik "Nick" Heusinger
URL:https://rcbobi.ch/fr/agenda/show/144227
DTSTART;TZID=Europe/Zurich:20220913T114500
DTEND;TZID=Europe/Zurich:20220913T133000
LOCATION:Restaurant Schloss Bottmingen - Mittagslunch\, Schlossgasse 9\, 41
 03 Bottmingen\, Schweiz
CATEGORIES:Rotary
END:VEVENT
BEGIN:VTIMEZONE
TZID:Europe/Zurich
BEGIN:DAYLIGHT
DTSTART:20220913T114500
TZNAME:CEST
TZOFFSETTO:+0200
TZOFFSETFROM:+0200
END:DAYLIGHT
END:VTIMEZONE
END:VCALENDAR
