BEGIN:VCALENDAR
PRODID:-//eluceo/ical//2.0/EN
VERSION:2.0
CALSCALE:GREGORIAN
BEGIN:VEVENT
UID:205742b93dabab125bf21e89ed7567db
DTSTAMP:20260422T102559Z
SUMMARY:Klassifikationsvortrag Markus Wespi
DESCRIPTION:Site internet: http://www.weiherschloss.ch\nConférencier(s): M
 arkus Wespi
URL:https://rcbobi.ch/fr/agenda/show/144219
DTSTART;TZID=Europe/Zurich:20220809T114500
DTEND;TZID=Europe/Zurich:20220809T133000
LOCATION:Restaurant Schloss Bottmingen - Mittagslunch\, Schlossgasse 9\, 41
 03 Bottmingen\, Schweiz
CATEGORIES:Rotary
END:VEVENT
BEGIN:VTIMEZONE
TZID:Europe/Zurich
BEGIN:DAYLIGHT
DTSTART:20220809T114500
TZNAME:CEST
TZOFFSETTO:+0200
TZOFFSETFROM:+0200
END:DAYLIGHT
END:VTIMEZONE
END:VCALENDAR
