BEGIN:VCALENDAR
PRODID:-//eluceo/ical//2.0/EN
VERSION:2.0
CALSCALE:GREGORIAN
BEGIN:VEVENT
UID:bcb96ceec581d10788d47a3f2e011dae
DTSTAMP:20260422T103120Z
SUMMARY:Plauderlunch EXTERN im Acqua Basel
DESCRIPTION:Site internet: https://www.acquabasel.ch/\nConférencier(s): Pl
 auderlunch im Acqua Basel
URL:https://rcbobi.ch/fr/agenda/show/144218
DTSTART;TZID=Europe/Zurich:20220726T114500
DTEND;TZID=Europe/Zurich:20220726T133000
LOCATION:Restaurant Acqua\, Binningerstrasse 14\, CH - 4051 Basel
CATEGORIES:Rotary
END:VEVENT
BEGIN:VTIMEZONE
TZID:Europe/Zurich
BEGIN:DAYLIGHT
DTSTART:20220726T114500
TZNAME:CEST
TZOFFSETTO:+0200
TZOFFSETFROM:+0200
END:DAYLIGHT
END:VTIMEZONE
END:VCALENDAR
