BEGIN:VCALENDAR
PRODID:-//eluceo/ical//2.0/EN
VERSION:2.0
CALSCALE:GREGORIAN
BEGIN:VEVENT
UID:290bfcdcebf77a6a31e02d448e0c6118
DTSTAMP:20260423T075257Z
SUMMARY:Plauderlunch
DESCRIPTION:Site internet: http://www.weiherschloss.ch\nConférencier(s): P
 lauderlunch
URL:https://rcbobi.ch/fr/agenda/show/144209
DTSTART;TZID=Europe/Zurich:20220712T114500
DTEND;TZID=Europe/Zurich:20220712T133000
LOCATION:Restaurant Schloss Bottmingen - Mittagslunch\, Schlossgasse 9\, 41
 03 Bottmingen\, Schweiz
CATEGORIES:Rotary
END:VEVENT
BEGIN:VTIMEZONE
TZID:Europe/Zurich
BEGIN:DAYLIGHT
DTSTART:20220712T114500
TZNAME:CEST
TZOFFSETTO:+0200
TZOFFSETFROM:+0200
END:DAYLIGHT
END:VTIMEZONE
END:VCALENDAR
