BEGIN:VCALENDAR
PRODID:-//eluceo/ical//2.0/EN
VERSION:2.0
CALSCALE:GREGORIAN
BEGIN:VEVENT
UID:d3568c3a9abb95beadf4f1f40d3436da
DTSTAMP:20260421T212751Z
SUMMARY:Rotary Lunch mit Yvonne Hunkeler -  VRP BVB
DESCRIPTION:Site internet: http://www.weiherschloss.ch\nConférencier(s): R
 otary Lunch mit Vortrag von Yvonne Hunkeler\, VRP BVB zum Thema: «BVB 
 – mehr als Tram und Bus»
URL:https://rcbobi.ch/fr/agenda/show/142857
DTSTART;TZID=Europe/Zurich:20220531T114500
DTEND;TZID=Europe/Zurich:20220531T134500
LOCATION:Restaurant Schloss Bottmingen - Mittagslunch\, Schlossgasse 9\, 41
 03 Bottmingen\, Schweiz
CATEGORIES:Rotary
END:VEVENT
BEGIN:VTIMEZONE
TZID:Europe/Zurich
BEGIN:DAYLIGHT
DTSTART:20220531T114500
TZNAME:CEST
TZOFFSETTO:+0200
TZOFFSETFROM:+0200
END:DAYLIGHT
END:VTIMEZONE
END:VCALENDAR
