BEGIN:VCALENDAR
PRODID:-//eluceo/ical//2.0/EN
VERSION:2.0
CALSCALE:GREGORIAN
BEGIN:VEVENT
UID:fc06ac25b5f45107262a5658fa9b2d10
DTSTAMP:20260421T182712Z
SUMMARY:Spezialanlass: UKBB tanzt "Verbunden" - Immer wieder zusammenfinden
DESCRIPTION:Site internet: https://www.pro-ukbb.ch/de/news-stories/news/202
 2/UKBB_tanzt_VERBUNDEN.php\nConférencier(s): Tänzerinnen und Tänzer des
  Projekts "UKBB tanzt"\, ein Projekt der Stiftung Pro UKBB.
URL:https://rcbobi.ch/fr/agenda/show/140594
DTSTART;TZID=Europe/Zurich:20220506T190000
DTEND;TZID=Europe/Zurich:20220506T210000
LOCATION:Basel
CATEGORIES:Rotary
END:VEVENT
BEGIN:VTIMEZONE
TZID:Europe/Zurich
BEGIN:DAYLIGHT
DTSTART:20220506T190000
TZNAME:CEST
TZOFFSETTO:+0200
TZOFFSETFROM:+0200
END:DAYLIGHT
END:VTIMEZONE
END:VCALENDAR
