BEGIN:VCALENDAR
PRODID:-//eluceo/ical//2.0/EN
VERSION:2.0
CALSCALE:GREGORIAN
BEGIN:VEVENT
UID:037c2f8ca8bfbf256653e679eff6096b
DTSTAMP:20260424T051929Z
SUMMARY:Rotary Lunch mit Vortrag von Marc Strasser
DESCRIPTION:Site internet: http://www.weiherschloss.ch\nConférencier(s): M
 arc Strasser\, CIO bei Universitätsspital Basel (USB)
URL:https://rcbobi.ch/fr/agenda/show/135163
DTSTART;TZID=Europe/Zurich:20220118T120000
DTEND;TZID=Europe/Zurich:20220118T133000
LOCATION:Restaurant Schloss Bottmingen - Mittagslunch\, Schlossgasse 9\, 41
 03 Bottmingen\, Schweiz
CATEGORIES:Rotary
END:VEVENT
BEGIN:VTIMEZONE
TZID:Europe/Zurich
BEGIN:STANDARD
DTSTART:20220118T120000
TZNAME:CET
TZOFFSETTO:+0100
TZOFFSETFROM:+0100
END:STANDARD
END:VTIMEZONE
END:VCALENDAR
