BEGIN:VCALENDAR
PRODID:-//eluceo/ical//2.0/EN
VERSION:2.0
CALSCALE:GREGORIAN
BEGIN:VEVENT
UID:7c6678fb7639181b10098066ce5e3a12
DTSTAMP:20260424T051241Z
SUMMARY:Warum heute noch Alte Sprachen erlernen? Die neue Aktualität der G
 riechen
DESCRIPTION:Sitio web: http://www.weiherschloss.ch\nOrador(es): Prof. Dr. A
 nton Bieri
URL:https://rcbobi.ch/es/agenda/show/163731
DTSTART;TZID=Europe/Zurich:20230912T114500
DTEND;TZID=Europe/Zurich:20230912T133000
LOCATION:Restaurant Schloss Bottmingen - Mittagslunch\, Schlossgasse 9\, 41
 03 Bottmingen\, Schweiz
CATEGORIES:Rotary
END:VEVENT
BEGIN:VTIMEZONE
TZID:Europe/Zurich
BEGIN:DAYLIGHT
DTSTART:20230912T114500
TZNAME:CEST
TZOFFSETTO:+0200
TZOFFSETFROM:+0200
END:DAYLIGHT
END:VTIMEZONE
END:VCALENDAR
