BEGIN:VCALENDAR
PRODID:-//eluceo/ical//2.0/EN
VERSION:2.0
CALSCALE:GREGORIAN
BEGIN:VEVENT
UID:40d3712a3c14455f43ed34521a984c5e
DTSTAMP:20260424T033205Z
SUMMARY:Damenanlass Claraspital Basel
DESCRIPTION:Orador(es): Lukas Altwegg
URL:https://rcbobi.ch/es/agenda/show/159024
DTSTART;TZID=Europe/Zurich:20230502T183000
DTEND;TZID=Europe/Zurich:20230502T230000
LOCATION:Abendanlass- Nur auf Einladung (Jeden ersten Dienstag im Monat)\, 
 Unterschiedlich\, 4000 Basel/Baselland
CATEGORIES:Rotary
END:VEVENT
BEGIN:VTIMEZONE
TZID:Europe/Zurich
BEGIN:DAYLIGHT
DTSTART:20230502T183000
TZNAME:CEST
TZOFFSETTO:+0200
TZOFFSETFROM:+0200
END:DAYLIGHT
END:VTIMEZONE
END:VCALENDAR
