BEGIN:VCALENDAR
PRODID:-//eluceo/ical//2.0/EN
VERSION:2.0
CALSCALE:GREGORIAN
BEGIN:VEVENT
UID:73c9cc8f9e50b40cd7d06d06323e48bd
DTSTAMP:20260424T022049Z
SUMMARY:Plauderlunch
DESCRIPTION:Sitio web: http://www.weiherschloss.ch\nOrador(es): Plauderlunc
 h
URL:https://rcbobi.ch/es/agenda/show/156362
DTSTART;TZID=Europe/Zurich:20230328T114500
DTEND;TZID=Europe/Zurich:20230328T133000
LOCATION:Restaurant Schloss Bottmingen - Mittagslunch\, Schlossgasse 9\, 41
 03 Bottmingen\, Schweiz
CATEGORIES:Rotary
END:VEVENT
BEGIN:VTIMEZONE
TZID:Europe/Zurich
BEGIN:DAYLIGHT
DTSTART:20230328T114500
TZNAME:CEST
TZOFFSETTO:+0200
TZOFFSETFROM:+0200
END:DAYLIGHT
END:VTIMEZONE
END:VCALENDAR
