BEGIN:VCALENDAR
PRODID:-//eluceo/ical//2.0/EN
VERSION:2.0
CALSCALE:GREGORIAN
BEGIN:VEVENT
UID:13241c61bcff317c8578da1e31a292d5
DTSTAMP:20260424T015720Z
SUMMARY:Plauderlunch mit Führung im Rest. Waldhaus Birsfelden / NICHT IM S
 CHLOSS
DESCRIPTION:Sitio web: https://www.waldhausbeiderbasel.ch/\nOrador(es): Da 
 am DI 21.02. das Schloss geschlossen hat\, werden wir am DI 21.02.23 unser
 en Plauderlunch im renovierten Restaurant Waldhaus in Birsfelden durchfüh
 ren. Zudem wird Rolf Stalder mit uns eine kurze Führung machen.
URL:https://rcbobi.ch/es/agenda/show/154571
DTSTART;TZID=Europe/Zurich:20230221T114500
DTEND;TZID=Europe/Zurich:20230221T133000
LOCATION:Waldhaus beider Basel / In der Hard / 4127 Birsfelden
CATEGORIES:Rotary
END:VEVENT
BEGIN:VTIMEZONE
TZID:Europe/Zurich
BEGIN:STANDARD
DTSTART:20230221T114500
TZNAME:CET
TZOFFSETTO:+0100
TZOFFSETFROM:+0100
END:STANDARD
END:VTIMEZONE
END:VCALENDAR
