BEGIN:VCALENDAR
PRODID:-//eluceo/ical//2.0/EN
VERSION:2.0
CALSCALE:GREGORIAN
BEGIN:VEVENT
UID:b945b0b079704ce7fc13d9767cc7122a
DTSTAMP:20260425T020701Z
SUMMARY:Kein Anlass am DI 10.01. / dafür Abendanlass am 11.01.23
DESCRIPTION:Orador(es): Kein Anlass / Weihnachtsferien
URL:https://rcbobi.ch/es/agenda/show/154117
DTSTART;TZID=Europe/Zurich:20230110T114500
DTEND;TZID=Europe/Zurich:20230110T133000
LOCATION:Kein Anlass
CATEGORIES:Rotary
END:VEVENT
BEGIN:VTIMEZONE
TZID:Europe/Zurich
BEGIN:STANDARD
DTSTART:20230110T114500
TZNAME:CET
TZOFFSETTO:+0100
TZOFFSETFROM:+0100
END:STANDARD
END:VTIMEZONE
END:VCALENDAR
