BEGIN:VCALENDAR
PRODID:-//eluceo/ical//2.0/EN
VERSION:2.0
CALSCALE:GREGORIAN
BEGIN:VEVENT
UID:6c9ab86ab56989d7958bdaedaa0749a0
DTSTAMP:20260425T020859Z
SUMMARY:Kein Anlass / Weihnachtsferien
DESCRIPTION:Orador(es): Kein Anlass / Weihnachtsferien
URL:https://rcbobi.ch/es/agenda/show/151446
DTSTART;TZID=Europe/Zurich:20230103T120000
DTEND;TZID=Europe/Zurich:20230103T133000
LOCATION:Kein Anlass / Weihnachtsferien
CATEGORIES:Rotary
END:VEVENT
BEGIN:VTIMEZONE
TZID:Europe/Zurich
BEGIN:STANDARD
DTSTART:20230103T120000
TZNAME:CET
TZOFFSETTO:+0100
TZOFFSETFROM:+0100
END:STANDARD
END:VTIMEZONE
END:VCALENDAR
