BEGIN:VCALENDAR
PRODID:-//eluceo/ical//2.0/EN
VERSION:2.0
CALSCALE:GREGORIAN
BEGIN:VEVENT
UID:8ce3f91481061bb0ebbd64d085da477a
DTSTAMP:20260423T233312Z
SUMMARY:Präsidialanlass 28. Juni 2022 - Ein Neuer Präsident\, ein neues R
 otary-Jahr
DESCRIPTION:Orador(es): Ein Neuer Präsident\, ein neues Rotary-Jahr\n\nDie
  vergangenen zwei Rotaryjahre wurden \nbekannterweise durch die Pandemie \
 nzerüttelt und forderte von den Rotariern \nviel Flexibilität\, Verstän
 dnis\, Innovation\nund Akzeptanz. Doch eines haben die \nRotarier vom RC B
 obi\, nie verloren in \ndieser doch schwierigen Zeit\, “Vertrauen“.\nD
 as Vertrauen in die Zukunft\, Vertrauen\nin die Freundschaft\, Vertrauen i
 n die \nHilfsbereitschaft und Unterstützungsbereitschaft wie sie seit Jah
 rzehnten \ntraditionell gelebt und gepflegt wird.
URL:https://rcbobi.ch/es/agenda/show/142835
DTSTART;TZID=Europe/Zurich:20220628T183000
DTEND;TZID=Europe/Zurich:20220628T233000
LOCATION:Möbel Rösch AG an der Güterstrasse  210\, 4053 Basel
CATEGORIES:Rotary
END:VEVENT
BEGIN:VTIMEZONE
TZID:Europe/Zurich
BEGIN:DAYLIGHT
DTSTART:20220628T183000
TZNAME:CEST
TZOFFSETTO:+0200
TZOFFSETFROM:+0200
END:DAYLIGHT
END:VTIMEZONE
END:VCALENDAR
