BEGIN:VCALENDAR
PRODID:-//eluceo/ical//2.0/EN
VERSION:2.0
CALSCALE:GREGORIAN
BEGIN:VEVENT
UID:640cf27409f4e5407114bcd520abb9c8
DTSTAMP:20260423T183404Z
SUMMARY:Rotary Lunch mit Vortrag zu Cyberkriminalität
DESCRIPTION:Sitio web: http://www.weiherschloss.ch\nOrador(es): Adrian Tres
 ch wird einen Vortrag zu Internetkriminalität halten. Aktuelle Bedrohung
 \, Mythen und was tun wenn man betroffen ist
URL:https://rcbobi.ch/es/agenda/show/140234
DTSTART;TZID=Europe/Zurich:20220329T120000
DTEND;TZID=Europe/Zurich:20220329T133000
LOCATION:Restaurant Schloss Bottmingen - Mittagslunch\, Schlossgasse 9\, 41
 03 Bottmingen\, Schweiz
CATEGORIES:Rotary
END:VEVENT
BEGIN:VTIMEZONE
TZID:Europe/Zurich
BEGIN:DAYLIGHT
DTSTART:20220329T120000
TZNAME:CEST
TZOFFSETTO:+0200
TZOFFSETFROM:+0200
END:DAYLIGHT
END:VTIMEZONE
END:VCALENDAR
