BEGIN:VCALENDAR
PRODID:-//eluceo/ical//2.0/EN
VERSION:2.0
CALSCALE:GREGORIAN
BEGIN:VEVENT
UID:025929115cdc6afc70e755a9343fa357
DTSTAMP:20260423T173945Z
SUMMARY:Abendanlass\, Fondation Fernet-Branca\, Saint-Louis
DESCRIPTION:Website: https://www.fondationfernet-branca.org/de
URL:https://rcbobi.ch/en/agenda/show/211834
DTSTART;TZID=Europe/Zurich:20260602T183000
DTEND;TZID=Europe/Zurich:20260602T220000
LOCATION:Espace d’Art Contemporain Fernet Branca
CATEGORIES:Rotary
END:VEVENT
BEGIN:VTIMEZONE
TZID:Europe/Zurich
BEGIN:DAYLIGHT
DTSTART:20260602T183000
TZNAME:CEST
TZOFFSETTO:+0200
TZOFFSETFROM:+0200
END:DAYLIGHT
END:VTIMEZONE
END:VCALENDAR
