BEGIN:VCALENDAR
PRODID:-//eluceo/ical//2.0/EN
VERSION:2.0
CALSCALE:GREGORIAN
BEGIN:VEVENT
UID:c722d7fb20880a9949162fc74e6b75a4
DTSTAMP:20260423T185853Z
SUMMARY:Weihnachts-Anlass\, Schloss Bottmingen
DESCRIPTION:Speaker(s): Weihnachts-Anlass
URL:https://rcbobi.ch/en/agenda/show/203405
DTSTART;TZID=Europe/Zurich:20251202T183000
DTEND;TZID=Europe/Zurich:20251202T220000
LOCATION:Schloss Bottmingen
CATEGORIES:Rotary
END:VEVENT
BEGIN:VTIMEZONE
TZID:Europe/Zurich
BEGIN:STANDARD
DTSTART:20251202T183000
TZNAME:CET
TZOFFSETTO:+0100
TZOFFSETFROM:+0100
END:STANDARD
END:VTIMEZONE
END:VCALENDAR
