BEGIN:VCALENDAR
PRODID:-//eluceo/ical//2.0/EN
VERSION:2.0
CALSCALE:GREGORIAN
BEGIN:VEVENT
UID:9d30cb893db90d6f4f09c467215aa10f
DTSTAMP:20260423T132624Z
SUMMARY:MV II
DESCRIPTION:Webseite: http://www.weiherschloss.ch
URL:https://rcbobi.ch/de/agenda/show/211836
DTSTART;TZID=Europe/Zurich:20260616T121500
DTEND;TZID=Europe/Zurich:20260616T133000
LOCATION:Restaurant Schloss Bottmingen - Mittagslunch\, Schlossgasse 9\, 41
 03 Bottmingen\, Schweiz
CATEGORIES:Rotary
END:VEVENT
BEGIN:VTIMEZONE
TZID:Europe/Zurich
BEGIN:DAYLIGHT
DTSTART:20260616T121500
TZNAME:CEST
TZOFFSETTO:+0200
TZOFFSETFROM:+0200
END:DAYLIGHT
END:VTIMEZONE
END:VCALENDAR
