BEGIN:VCALENDAR
PRODID:-//eluceo/ical//2.0/EN
VERSION:2.0
CALSCALE:GREGORIAN
BEGIN:VEVENT
UID:7edd6ea42c08dd668113a82d672026ba
DTSTAMP:20260423T133320Z
SUMMARY:Partner-Anlass - Grenzenlos: strategische Perspektiven
DESCRIPTION:Webseite: http://www.weiherschloss.ch\nReferenten/innen: Johann
 es Teyssen\, \n\n\n\n\n\n\n\n\n\n\n\n\n\n\n\n\n\nVerwaltungsratspräsiden
 t von Alpiq und Lufthansa \n\n\n\n     
URL:https://rcbobi.ch/de/agenda/show/211830
DTSTART;TZID=Europe/Zurich:20260505T114500
DTEND;TZID=Europe/Zurich:20260505T133000
LOCATION:Restaurant Schloss Bottmingen - Mittagslunch\, Schlossgasse 9\, 41
 03 Bottmingen\, Schweiz
CATEGORIES:Rotary
END:VEVENT
BEGIN:VTIMEZONE
TZID:Europe/Zurich
BEGIN:DAYLIGHT
DTSTART:20260505T114500
TZNAME:CEST
TZOFFSETTO:+0200
TZOFFSETFROM:+0200
END:DAYLIGHT
END:VTIMEZONE
END:VCALENDAR
