BEGIN:VCALENDAR
PRODID:-//eluceo/ical//2.0/EN
VERSION:2.0
CALSCALE:GREGORIAN
BEGIN:VEVENT
UID:e3fdeeabe4716a2f10e08f4591c8f4c8
DTSTAMP:20260423T170220Z
SUMMARY:Referat "Verstehen und Bewältigen der Herausforderungen in den int
 ernationalen Lieferketten: Wie meistert sich ein Terminal- und Logistikbet
 rieb?" / Aufnahme von Dennis Abt
DESCRIPTION:Webseite: http://www.weiherschloss.ch\nReferenten/innen: Roman 
 Mayer\, CEO Swissterminal und Präsident Wirtschaftskammer BL
URL:https://rcbobi.ch/de/agenda/show/156521
DTSTART;TZID=Europe/Zurich:20230516T114500
DTEND;TZID=Europe/Zurich:20230516T133000
LOCATION:Restaurant Schloss Bottmingen - Mittagslunch\, Schlossgasse 9\, 41
 03 Bottmingen\, Schweiz
CATEGORIES:Rotary
END:VEVENT
BEGIN:VTIMEZONE
TZID:Europe/Zurich
BEGIN:DAYLIGHT
DTSTART:20230516T114500
TZNAME:CEST
TZOFFSETTO:+0200
TZOFFSETFROM:+0200
END:DAYLIGHT
END:VTIMEZONE
END:VCALENDAR
