BEGIN:VCALENDAR
PRODID:-//eluceo/ical//2.0/EN
VERSION:2.0
CALSCALE:GREGORIAN
BEGIN:VEVENT
UID:cdc32f50abb73e7c1c70298193676fd2
DTSTAMP:20260425T113233Z
SUMMARY:Plauderlunch
DESCRIPTION:Webseite: http://www.weiherschloss.ch
URL:https://rcbobi.ch/de/agenda/show/156400
DTSTART;TZID=Europe/Zurich:20230509T114500
DTEND;TZID=Europe/Zurich:20230509T133000
LOCATION:Restaurant Schloss Bottmingen - Mittagslunch\, Schlossgasse 9\, 41
 03 Bottmingen\, Schweiz
CATEGORIES:Rotary
END:VEVENT
BEGIN:VTIMEZONE
TZID:Europe/Zurich
BEGIN:DAYLIGHT
DTSTART:20230509T114500
TZNAME:CEST
TZOFFSETTO:+0200
TZOFFSETFROM:+0200
END:DAYLIGHT
END:VTIMEZONE
END:VCALENDAR
