BEGIN:VCALENDAR
PRODID:-//eluceo/ical//2.0/EN
VERSION:2.0
CALSCALE:GREGORIAN
BEGIN:VEVENT
UID:f8f73d85f841db4fa19b59d0457f67b3
DTSTAMP:20260423T184406Z
SUMMARY:Damenanlass Blaulicht Organisation
DESCRIPTION:Referenten/innen: Major Michel Eigenmann\, Leiter Einsatzzentra
 le Rettung Basel-Stadt
URL:https://rcbobi.ch/de/agenda/show/155478
DTSTART;TZID=Europe/Zurich:20230207T183000
DTEND;TZID=Europe/Zurich:20230207T230000
LOCATION:Abendanlass- Nur auf Einladung (Jeden ersten Dienstag im Monat)\, 
 Unterschiedlich\, 4000 Basel/Baselland
CATEGORIES:Rotary
END:VEVENT
BEGIN:VTIMEZONE
TZID:Europe/Zurich
BEGIN:STANDARD
DTSTART:20230207T183000
TZNAME:CET
TZOFFSETTO:+0100
TZOFFSETFROM:+0100
END:STANDARD
END:VTIMEZONE
END:VCALENDAR
