BEGIN:VCALENDAR
PRODID:-//eluceo/ical//2.0/EN
VERSION:2.0
CALSCALE:GREGORIAN
BEGIN:VEVENT
UID:45f5864b21961567edc7fbea76a400b5
DTSTAMP:20260423T184605Z
SUMMARY:Plauderlunch
DESCRIPTION:Webseite: http://www.weiherschloss.ch\nReferenten/innen: Plaude
 rlunch
URL:https://rcbobi.ch/de/agenda/show/154569
DTSTART;TZID=Europe/Zurich:20230131T114500
DTEND;TZID=Europe/Zurich:20230131T133000
LOCATION:Restaurant Schloss Bottmingen - Mittagslunch\, Schlossgasse 9\, 41
 03 Bottmingen\, Schweiz
CATEGORIES:Rotary
END:VEVENT
BEGIN:VTIMEZONE
TZID:Europe/Zurich
BEGIN:STANDARD
DTSTART:20230131T114500
TZNAME:CET
TZOFFSETTO:+0100
TZOFFSETFROM:+0100
END:STANDARD
END:VTIMEZONE
END:VCALENDAR
