BEGIN:VCALENDAR
PRODID:-//eluceo/ical//2.0/EN
VERSION:2.0
CALSCALE:GREGORIAN
BEGIN:VEVENT
UID:597a7d634629d3d47feaf0ef028a1bfa
DTSTAMP:20260424T010210Z
SUMMARY:Weihnachtsanlass
DESCRIPTION:
URL:https://rcbobi.ch/de/agenda/show/149164
DTSTART;TZID=Europe/Zurich:20221213T183000
DTEND;TZID=Europe/Zurich:20221213T233000
LOCATION:Abendanlass- Nur auf Einladung (Jeden ersten Dienstag im Monat)\, 
 Unterschiedlich\, 4000 Basel/Baselland
CATEGORIES:Rotary
END:VEVENT
BEGIN:VTIMEZONE
TZID:Europe/Zurich
BEGIN:STANDARD
DTSTART:20221213T183000
TZNAME:CET
TZOFFSETTO:+0100
TZOFFSETFROM:+0100
END:STANDARD
END:VTIMEZONE
END:VCALENDAR
