BEGIN:VCALENDAR
PRODID:-//eluceo/ical//2.0/EN
VERSION:2.0
CALSCALE:GREGORIAN
BEGIN:VEVENT
UID:5a17c8469f1bd6618591702b8fbdee49
DTSTAMP:20260423T233100Z
SUMMARY:Plauderlunch am Weihnachtsmarkt bei Theo Lang
DESCRIPTION:Webseite: https://www.basel.com/de/veranstaltungen/weihnachten/
 weihnachtsmarkt\nReferenten/innen: Niggi Näggi bei Theo Lang am Weihnacht
 smarkt
URL:https://rcbobi.ch/de/agenda/show/149163
DTSTART;TZID=Europe/Zurich:20221206T114500
DTEND;TZID=Europe/Zurich:20221206T133000
LOCATION:Barfüsserplatz Weihnachtsmarkt Basel
CATEGORIES:Rotary
END:VEVENT
BEGIN:VTIMEZONE
TZID:Europe/Zurich
BEGIN:STANDARD
DTSTART:20221206T114500
TZNAME:CET
TZOFFSETTO:+0100
TZOFFSETFROM:+0100
END:STANDARD
END:VTIMEZONE
END:VCALENDAR
