BEGIN:VCALENDAR
PRODID:-//eluceo/ical//2.0/EN
VERSION:2.0
CALSCALE:GREGORIAN
BEGIN:VEVENT
UID:66230038f70f52567fc0b53386a01a9e
DTSTAMP:20260423T202308Z
SUMMARY:Plauderlunch
DESCRIPTION:Webseite: http://www.weiherschloss.ch\nReferenten/innen: Plaude
 rlunch
URL:https://rcbobi.ch/de/agenda/show/149161
DTSTART;TZID=Europe/Zurich:20221122T114500
DTEND;TZID=Europe/Zurich:20221122T133000
LOCATION:Restaurant Schloss Bottmingen - Mittagslunch\, Schlossgasse 9\, 41
 03 Bottmingen\, Schweiz
CATEGORIES:Rotary
END:VEVENT
BEGIN:VTIMEZONE
TZID:Europe/Zurich
BEGIN:STANDARD
DTSTART:20221122T114500
TZNAME:CET
TZOFFSETTO:+0100
TZOFFSETFROM:+0100
END:STANDARD
END:VTIMEZONE
END:VCALENDAR
