BEGIN:VCALENDAR
PRODID:-//eluceo/ical//2.0/EN
VERSION:2.0
CALSCALE:GREGORIAN
BEGIN:VEVENT
UID:a04e6ef6ea7e14a5c958132335995fcc
DTSTAMP:20260423T202117Z
SUMMARY:77 Bombay Street
DESCRIPTION:Webseite: http://www.weiherschloss.ch\nReferenten/innen: 77 Bom
 bay Street
URL:https://rcbobi.ch/de/agenda/show/149160
DTSTART;TZID=Europe/Zurich:20221115T114500
DTEND;TZID=Europe/Zurich:20221115T133000
LOCATION:Restaurant Schloss Bottmingen - Mittagslunch\, Schlossgasse 9\, 41
 03 Bottmingen\, Schweiz
CATEGORIES:Rotary
END:VEVENT
BEGIN:VTIMEZONE
TZID:Europe/Zurich
BEGIN:STANDARD
DTSTART:20221115T114500
TZNAME:CET
TZOFFSETTO:+0100
TZOFFSETFROM:+0100
END:STANDARD
END:VTIMEZONE
END:VCALENDAR
