BEGIN:VCALENDAR
PRODID:-//eluceo/ical//2.0/EN
VERSION:2.0
CALSCALE:GREGORIAN
BEGIN:VEVENT
UID:ac8316bc5c64518e9570fb1dbbc39c7b
DTSTAMP:20260423T202755Z
SUMMARY:Die Gasbranche im Wandel
DESCRIPTION:Webseite: http://www.weiherschloss.ch\nReferenten/innen: \n\n\n
 \n\n\n\n\n\n\n\n\n\n\n\n\n\n\nDie Gasbranche im\nWandel: Lösungsansätze
  in Bezug\nauf die Energiestrategie 2050 und Erläuterung der Massnahmen\n
 \n\n\n
URL:https://rcbobi.ch/de/agenda/show/149158
DTSTART;TZID=Europe/Zurich:20221108T114500
DTEND;TZID=Europe/Zurich:20221108T133000
LOCATION:Restaurant Schloss Bottmingen - Mittagslunch\, Schlossgasse 9\, 41
 03 Bottmingen\, Schweiz
CATEGORIES:Rotary
END:VEVENT
BEGIN:VTIMEZONE
TZID:Europe/Zurich
BEGIN:STANDARD
DTSTART:20221108T114500
TZNAME:CET
TZOFFSETTO:+0100
TZOFFSETFROM:+0100
END:STANDARD
END:VTIMEZONE
END:VCALENDAR
