BEGIN:VCALENDAR
PRODID:-//eluceo/ical//2.0/EN
VERSION:2.0
CALSCALE:GREGORIAN
BEGIN:VEVENT
UID:fa6669645b6f83c2d98e8aad62cfd595
DTSTAMP:20260423T222453Z
SUMMARY:ESAF Pratteln mit Rolf Klarer
DESCRIPTION:Webseite: http://www.weiherschloss.ch\nReferenten/innen: Rolf K
 larer Vizepräsident des OK ESAF Pratteln 
URL:https://rcbobi.ch/de/agenda/show/144220
DTSTART;TZID=Europe/Zurich:20220816T114500
DTEND;TZID=Europe/Zurich:20220816T133000
LOCATION:Restaurant Schloss Bottmingen - Mittagslunch\, Schlossgasse 9\, 41
 03 Bottmingen\, Schweiz
CATEGORIES:Rotary
END:VEVENT
BEGIN:VTIMEZONE
TZID:Europe/Zurich
BEGIN:DAYLIGHT
DTSTART:20220816T114500
TZNAME:CEST
TZOFFSETTO:+0200
TZOFFSETFROM:+0200
END:DAYLIGHT
END:VTIMEZONE
END:VCALENDAR
