BEGIN:VCALENDAR
PRODID:-//eluceo/ical//2.0/EN
VERSION:2.0
CALSCALE:GREGORIAN
BEGIN:VEVENT
UID:d557c15919c50ac09ce0524eab9f2477
DTSTAMP:20260419T134805Z
SUMMARY:Alexander Keberle\, economiesuisse
DESCRIPTION:Web stranica: http://www.weiherschloss.ch\nGovornik(ci): \n \n 
 \n\n  Alexander\n  Keberle\n\n \n
URL:https://rcbobi.ch/bs/agenda/show/211835
DTSTART;TZID=Europe/Zurich:20260609T121500
DTEND;TZID=Europe/Zurich:20260609T133000
LOCATION:Restaurant Schloss Bottmingen - Mittagslunch\, Schlossgasse 9\, 41
 03 Bottmingen\, Schweiz
CATEGORIES:Rotary
END:VEVENT
BEGIN:VTIMEZONE
TZID:Europe/Zurich
BEGIN:DAYLIGHT
DTSTART:20260609T121500
TZNAME:CEST
TZOFFSETTO:+0200
TZOFFSETFROM:+0200
END:DAYLIGHT
END:VTIMEZONE
END:VCALENDAR
