BEGIN:VCALENDAR
PRODID:-//eluceo/ical//2.0/EN
VERSION:2.0
CALSCALE:GREGORIAN
BEGIN:VEVENT
UID:6011f50b52cbf1b7b11e064eba86357f
DTSTAMP:20260423T112716Z
SUMMARY:Verhandlungen mit der EU – Was sind die Grenzen?
DESCRIPTION:Web stranica: http://www.weiherschloss.ch\nGovornik(ci): Nation
 alrat\nThomas de Courten    
URL:https://rcbobi.ch/bs/agenda/show/207922
DTSTART;TZID=Europe/Zurich:20260331T121500
DTEND;TZID=Europe/Zurich:20260331T133000
LOCATION:Restaurant Schloss Bottmingen - Mittagslunch\, Schlossgasse 9\, 41
 03 Bottmingen\, Schweiz
CATEGORIES:Rotary
END:VEVENT
BEGIN:VTIMEZONE
TZID:Europe/Zurich
BEGIN:DAYLIGHT
DTSTART:20260331T121500
TZNAME:CEST
TZOFFSETTO:+0200
TZOFFSETFROM:+0200
END:DAYLIGHT
END:VTIMEZONE
END:VCALENDAR
