BEGIN:VCALENDAR
PRODID:-//eluceo/ical//2.0/EN
VERSION:2.0
CALSCALE:GREGORIAN
BEGIN:VEVENT
UID:38c963435f5dcb7c7a0a762b1dce7290
DTSTAMP:20260422T192337Z
SUMMARY:Austauschjahr mit dem RC BoBi
DESCRIPTION:Web stranica: http://www.weiherschloss.ch\nGovornik(ci): Serain
 e Antonietti und Christian Cabane
URL:https://rcbobi.ch/bs/agenda/show/167191
DTSTART;TZID=Europe/Zurich:20231017T114500
DTEND;TZID=Europe/Zurich:20231017T133000
LOCATION:Restaurant Schloss Bottmingen - Mittagslunch\, Schlossgasse 9\, 41
 03 Bottmingen\, Schweiz
CATEGORIES:Rotary
END:VEVENT
BEGIN:VTIMEZONE
TZID:Europe/Zurich
BEGIN:DAYLIGHT
DTSTART:20231017T114500
TZNAME:CEST
TZOFFSETTO:+0200
TZOFFSETFROM:+0200
END:DAYLIGHT
END:VTIMEZONE
END:VCALENDAR
