BEGIN:VCALENDAR
PRODID:-//eluceo/ical//2.0/EN
VERSION:2.0
CALSCALE:GREGORIAN
BEGIN:VEVENT
UID:b78157383e14958a77f8566655c46326
DTSTAMP:20260422T192804Z
SUMMARY:Plauderlunch Gartenstadt
DESCRIPTION:
URL:https://rcbobi.ch/bs/agenda/show/164943
DTSTART;TZID=Europe/Zurich:20231010T114500
DTEND;TZID=Europe/Zurich:20231010T133000
LOCATION:Restaurant Gartenstadt
CATEGORIES:Rotary
END:VEVENT
BEGIN:VTIMEZONE
TZID:Europe/Zurich
BEGIN:DAYLIGHT
DTSTART:20231010T114500
TZNAME:CEST
TZOFFSETTO:+0200
TZOFFSETFROM:+0200
END:DAYLIGHT
END:VTIMEZONE
END:VCALENDAR
