BEGIN:VCALENDAR
PRODID:-//eluceo/ical//2.0/EN
VERSION:2.0
CALSCALE:GREGORIAN
BEGIN:VEVENT
UID:bf8ad60bb0ae0e6970b3cdc75bfab725
DTSTAMP:20260422T194432Z
SUMMARY:Mitgliederversammlung MV 1
DESCRIPTION:Web stranica: http://www.weiherschloss.ch
URL:https://rcbobi.ch/bs/agenda/show/164922
DTSTART;TZID=Europe/Zurich:20231128T114500
DTEND;TZID=Europe/Zurich:20231128T133000
LOCATION:Restaurant Schloss Bottmingen - Mittagslunch\, Schlossgasse 9\, 41
 03 Bottmingen\, Schweiz
CATEGORIES:Rotary
END:VEVENT
BEGIN:VTIMEZONE
TZID:Europe/Zurich
BEGIN:STANDARD
DTSTART:20231128T114500
TZNAME:CET
TZOFFSETTO:+0100
TZOFFSETFROM:+0100
END:STANDARD
END:VTIMEZONE
END:VCALENDAR
