BEGIN:VCALENDAR
PRODID:-//eluceo/ical//2.0/EN
VERSION:2.0
CALSCALE:GREGORIAN
BEGIN:VEVENT
UID:55fc9df3570b737e71661ae6a70ba0f1
DTSTAMP:20260422T192710Z
SUMMARY:P-26. Geheime Widerstandsvorbereitungen für den Besetzungsfall
DESCRIPTION:Web stranica: http://www.weiherschloss.ch\nGovornik(ci): Titus 
 Meier
URL:https://rcbobi.ch/bs/agenda/show/162747
DTSTART;TZID=Europe/Zurich:20230926T114500
DTEND;TZID=Europe/Zurich:20230926T133000
LOCATION:Restaurant Schloss Bottmingen - Mittagslunch\, Schlossgasse 9\, 41
 03 Bottmingen\, Schweiz
CATEGORIES:Rotary
END:VEVENT
BEGIN:VTIMEZONE
TZID:Europe/Zurich
BEGIN:DAYLIGHT
DTSTART:20230926T114500
TZNAME:CEST
TZOFFSETTO:+0200
TZOFFSETFROM:+0200
END:DAYLIGHT
END:VTIMEZONE
END:VCALENDAR
