BEGIN:VCALENDAR
PRODID:-//eluceo/ical//2.0/EN
VERSION:2.0
CALSCALE:GREGORIAN
BEGIN:VEVENT
UID:f1105401c4bb8cf45bd3c24fe99a928c
DTSTAMP:20260422T192053Z
SUMMARY:Plauderlunch
DESCRIPTION:Web stranica: http://www.weiherschloss.ch
URL:https://rcbobi.ch/bs/agenda/show/162739
DTSTART;TZID=Europe/Zurich:20230905T114500
DTEND;TZID=Europe/Zurich:20230905T133000
LOCATION:Restaurant Schloss Bottmingen - Mittagslunch\, Schlossgasse 9\, 41
 03 Bottmingen\, Schweiz
CATEGORIES:Rotary
END:VEVENT
BEGIN:VTIMEZONE
TZID:Europe/Zurich
BEGIN:DAYLIGHT
DTSTART:20230905T114500
TZNAME:CEST
TZOFFSETTO:+0200
TZOFFSETFROM:+0200
END:DAYLIGHT
END:VTIMEZONE
END:VCALENDAR
